BEGIN:VCALENDAR
VERSION:2.0
PRODID:SchoolNow
CALSCALE:GREGORIAN
BEGIN:VEVENT
UID:8dc6c23e-d9e9-11ef-985a-0a58a9feac02
DTSTAMP:20250124T002420Z
SUMMARY:Basketball (Boys F) @ Merrillville High School
LOCATION:Merrillville High School
URL;VALUE=URI:https://www.tricreek.k12.in.us/lhs/calendar/7360691/basketbal
 l-boys-f-merrillville-high-school
DTSTART:20250129T000000Z
DTEND:20250129T020000Z
END:VEVENT
END:VCALENDAR
