BEGIN:VCALENDAR
VERSION:2.0
PRODID:SchoolNow
CALSCALE:GREGORIAN
BEGIN:VEVENT
UID:8dc6c6da-d9e9-11ef-9f37-0a58a9feac02
DTSTAMP:20250124T002420Z
SUMMARY:FB FH2
LOCATION:Fieldhouse 2
URL;VALUE=URI:https://www.tricreek.k12.in.us/lhs/calendar/7360693/fb-fh2
DTSTART:20241211T223000Z
DTEND:20241211T233000Z
END:VEVENT
END:VCALENDAR
