BEGIN:VCALENDAR
VERSION:2.0
PRODID:SchoolNow
CALSCALE:GREGORIAN
BEGIN:VEVENT
UID:8dc6cb9e-d9e9-11ef-8c20-0a58a9feac02
DTSTAMP:20250124T002420Z
SUMMARY:FB FH 1-2
LOCATION:LHS Fieldhouse (Court 1)\, LHS Fieldhouse (Court 2)
URL;VALUE=URI:https://www.tricreek.k12.in.us/lhs/calendar/7360694/fb-fh-1-2
DTSTART:20250116T213000Z
DTEND:20250116T233000Z
END:VEVENT
END:VCALENDAR
