BEGIN:VCALENDAR
VERSION:2.0
PRODID:SchoolNow
CALSCALE:GREGORIAN
BEGIN:VEVENT
UID:8dc6cec8-d9e9-11ef-a3bd-0a58a9feac02
DTSTAMP:20250124T002420Z
SUMMARY:FB FH3
LOCATION:LHS Fieldhouse (Court 3)
URL;VALUE=URI:https://www.tricreek.k12.in.us/lhs/calendar/7360696/fb-fh3
DTSTART:20250123T233000Z
DTEND:20250124T013000Z
END:VEVENT
END:VCALENDAR
