BEGIN:VCALENDAR
VERSION:2.0
PRODID:SchoolNow
CALSCALE:GREGORIAN
BEGIN:VEVENT
UID:8dc6d26a-d9e9-11ef-a69f-0a58a9feac02
DTSTAMP:20250124T002420Z
SUMMARY:FB FH2-3
LOCATION:LHS Fieldhouse (Court 2)\, LHS Fieldhouse (Court 3)
URL;VALUE=URI:https://www.tricreek.k12.in.us/lhs/calendar/7360698/fb-fh2-3
DTSTART:20250121T213000Z
DTEND:20250121T233000Z
END:VEVENT
END:VCALENDAR
