BEGIN:VCALENDAR
VERSION:2.0
PRODID:SchoolNow
CALSCALE:GREGORIAN
BEGIN:VEVENT
UID:8dc6d35a-d9e9-11ef-b30d-0a58a9feac02
DTSTAMP:20250124T002420Z
SUMMARY:FB FH3
LOCATION:LHS Fieldhouse (Court 3)
URL;VALUE=URI:https://www.tricreek.k12.in.us/lhs/calendar/7360699/fb-fh3
DTSTART:20241211T233000Z
DTEND:20241212T003000Z
END:VEVENT
END:VCALENDAR
