BEGIN:VCALENDAR
VERSION:2.0
PRODID:SchoolNow
CALSCALE:GREGORIAN
BEGIN:VEVENT
UID:8dc6d440-d9e9-11ef-a60e-0a58a9feac02
DTSTAMP:20250124T002420Z
SUMMARY:FB FH1-2
LOCATION:LHS Fieldhouse (Court 1)\, LHS Fieldhouse (Court 2)
URL;VALUE=URI:https://www.tricreek.k12.in.us/lhs/calendar/7360700/fb-fh1-2
DTSTART:20250109T213000Z
DTEND:20250109T233000Z
END:VEVENT
END:VCALENDAR
