BEGIN:VCALENDAR
VERSION:2.0
PRODID:SchoolNow
CALSCALE:GREGORIAN
BEGIN:VEVENT
UID:8dc6d526-d9e9-11ef-bd58-0a58a9feac02
DTSTAMP:20250124T002420Z
SUMMARY:FB FH3
LOCATION:LHS Fieldhouse (Court 3)
URL;VALUE=URI:https://www.tricreek.k12.in.us/lhs/calendar/7360701/fb-fh3
DTSTART:20241218T233000Z
DTEND:20241219T013000Z
END:VEVENT
END:VCALENDAR
