BEGIN:VCALENDAR
VERSION:2.0
PRODID:SchoolNow
CALSCALE:GREGORIAN
BEGIN:VEVENT
UID:8dc6d6f2-d9e9-11ef-8364-0a58a9feac02
DTSTAMP:20250124T002420Z
SUMMARY:FB FH1-2
LOCATION:LHS Fieldhouse (Court 2)\, LHS Fieldhouse (Court 1)
URL;VALUE=URI:https://www.tricreek.k12.in.us/lhs/calendar/7360703/fb-fh1-2
DTSTART:20250114T233000Z
DTEND:20250115T013000Z
END:VEVENT
END:VCALENDAR
