BEGIN:VCALENDAR
VERSION:2.0
PRODID:SchoolNow
CALSCALE:GREGORIAN
BEGIN:VEVENT
UID:8dc6d7d8-d9e9-11ef-8fef-0a58a9feac02
DTSTAMP:20250124T002420Z
SUMMARY:FB FH 2-3
LOCATION:LHS Fieldhouse (Court 2)\, LHS Fieldhouse (Court 3)
URL;VALUE=URI:https://www.tricreek.k12.in.us/lhs/calendar/7360704/fb-fh-2-3
DTSTART:20250107T233000Z
DTEND:20250108T013000Z
END:VEVENT
END:VCALENDAR
