BEGIN:VCALENDAR
VERSION:2.0
PRODID:SchoolNow
CALSCALE:GREGORIAN
BEGIN:VEVENT
UID:8dc6d8f0-d9e9-11ef-926b-0a58a9feac02
DTSTAMP:20250124T002420Z
SUMMARY:FB FH3
LOCATION:LHS Fieldhouse (Court 3)
URL;VALUE=URI:https://www.tricreek.k12.in.us/lhs/calendar/7360705/fb-fh3
DTSTART:20241212T233000Z
DTEND:20241213T013000Z
END:VEVENT
END:VCALENDAR
