BEGIN:VCALENDAR
VERSION:2.0
PRODID:SchoolNow
CALSCALE:GREGORIAN
BEGIN:VEVENT
UID:8dc6d9d6-d9e9-11ef-a1cb-0a58a9feac02
DTSTAMP:20250124T002420Z
SUMMARY:Track & Field (Girls JV) @ NCC JV INVITE
LOCATION:Highland High School
URL;VALUE=URI:https://www.tricreek.k12.in.us/lhs/calendar/7360706/track-fie
 ld-girls-jv-ncc-jv-invite
DTSTART:20250515T214500Z
DTEND:20250515T234500Z
END:VEVENT
END:VCALENDAR
