BEGIN:VCALENDAR
VERSION:2.0
PRODID:SchoolNow
CALSCALE:GREGORIAN
BEGIN:VEVENT
UID:8dc6dab2-d9e9-11ef-96de-0a58a9feac02
DTSTAMP:20250124T002420Z
SUMMARY:Golf (Boys V) @ LC Boys Golf Invite
LOCATION:Lake Central High School
URL;VALUE=URI:https://www.tricreek.k12.in.us/lhs/calendar/7360707/golf-boys
 -v-lc-boys-golf-invite
DTSTART:20250524T130000Z
DTEND:20250524T150000Z
END:VEVENT
END:VCALENDAR
