BEGIN:VCALENDAR
VERSION:2.0
PRODID:SchoolNow
CALSCALE:GREGORIAN
BEGIN:VEVENT
UID:8dc6db8e-d9e9-11ef-9225-0a58a9feac02
DTSTAMP:20250124T002420Z
SUMMARY:Golf (Boys V) @ Merrillville High School
LOCATION:Merrillville High School
URL;VALUE=URI:https://www.tricreek.k12.in.us/lhs/calendar/7360708/golf-boys
 -v-merrillville-high-school
DTSTART:20250421T210000Z
DTEND:20250421T230000Z
END:VEVENT
END:VCALENDAR
