BEGIN:VCALENDAR
VERSION:2.0
PRODID:SchoolNow
CALSCALE:GREGORIAN
BEGIN:VEVENT
UID:8dc6dc6a-d9e9-11ef-a4fe-0a58a9feac02
DTSTAMP:20250124T002420Z
SUMMARY:Golf (Boys V) @ Northwest Crossroads Conference Tourney
LOCATION:Kankakee Valley High School
URL;VALUE=URI:https://www.tricreek.k12.in.us/lhs/calendar/7360709/golf-boys
 -v-northwest-crossroads-conference-tourney
DTSTART:20250527T133000Z
DTEND:20250527T153000Z
END:VEVENT
END:VCALENDAR
