BEGIN:VCALENDAR
VERSION:2.0
PRODID:SchoolNow
CALSCALE:GREGORIAN
BEGIN:VEVENT
UID:8dc6dd46-d9e9-11ef-982c-0a58a9feac02
DTSTAMP:20250124T002420Z
SUMMARY:Golf (Boys V) - Kankakee Valley High School
LOCATION:Lowell Senior High School
URL;VALUE=URI:https://www.tricreek.k12.in.us/lhs/calendar/7360710/golf-boys
 -v-kankakee-valley-high-school
DTSTART:20250515T213000Z
DTEND:20250515T233000Z
END:VEVENT
END:VCALENDAR
