BEGIN:VCALENDAR
VERSION:2.0
PRODID:SchoolNow
CALSCALE:GREGORIAN
BEGIN:VEVENT
UID:8dc6de22-d9e9-11ef-bfe2-0a58a9feac02
DTSTAMP:20250124T002420Z
SUMMARY:Golf (Boys V) @ Illiana Christian High School
LOCATION:Illiana Christian High School
URL;VALUE=URI:https://www.tricreek.k12.in.us/lhs/calendar/7360711/golf-boys
 -v-illiana-christian-high-school
DTSTART:20250425T210000Z
DTEND:20250425T230000Z
END:VEVENT
END:VCALENDAR
