BEGIN:VCALENDAR
VERSION:2.0
PRODID:SchoolNow
CALSCALE:GREGORIAN
BEGIN:VEVENT
UID:8dc6defe-d9e9-11ef-b0fa-0a58a9feac02
DTSTAMP:20250124T002420Z
SUMMARY:Golf (Boys V) @ Hobart High School
LOCATION:Hobart High School
URL;VALUE=URI:https://www.tricreek.k12.in.us/lhs/calendar/7360712/golf-boys
 -v-hobart-high-school
DTSTART:20250505T210000Z
DTEND:20250505T230000Z
END:VEVENT
END:VCALENDAR
