BEGIN:VCALENDAR
VERSION:2.0
PRODID:SchoolNow
CALSCALE:GREGORIAN
BEGIN:VEVENT
UID:8dc6e0ac-d9e9-11ef-9cb7-0a58a9feac02
DTSTAMP:20250124T002420Z
SUMMARY:Golf (Boys V) @ Brickie Scramble
LOCATION:Hobart High School
URL;VALUE=URI:https://www.tricreek.k12.in.us/lhs/calendar/7360714/golf-boys
 -v-brickie-scramble
DTSTART:20250415T210000Z
DTEND:20250415T230000Z
END:VEVENT
END:VCALENDAR
