BEGIN:VCALENDAR
VERSION:2.0
PRODID:SchoolNow
CALSCALE:GREGORIAN
BEGIN:VEVENT
UID:8dc6e17e-d9e9-11ef-9b93-0a58a9feac02
DTSTAMP:20250124T002420Z
SUMMARY:Golf (Boys V) - AHS\, BGHS\, CHS\, LHS
LOCATION:Lowell Senior High School
URL;VALUE=URI:https://www.tricreek.k12.in.us/lhs/calendar/7360715/golf-boys
 -v-ahs-bghs-chs-lhs
DTSTART:20250416T210000Z
DTEND:20250416T230000Z
END:VEVENT
END:VCALENDAR
