BEGIN:VCALENDAR
VERSION:2.0
PRODID:SchoolNow
CALSCALE:GREGORIAN
BEGIN:VEVENT
UID:8dc6e250-d9e9-11ef-80ba-0a58a9feac02
DTSTAMP:20250124T002420Z
SUMMARY:Golf (Boys V) @ Boone Grove Invite
LOCATION:Boone Grove High School
URL;VALUE=URI:https://www.tricreek.k12.in.us/lhs/calendar/7360716/golf-boys
 -v-boone-grove-invite
DTSTART:20250512T210000Z
DTEND:20250512T230000Z
END:VEVENT
END:VCALENDAR
