BEGIN:VCALENDAR
VERSION:2.0
PRODID:SchoolNow
CALSCALE:GREGORIAN
BEGIN:VEVENT
UID:8dc6e32c-d9e9-11ef-a5f4-0a58a9feac02
DTSTAMP:20250124T002420Z
SUMMARY:Golf (Boys V) @ Hanover Central Jr-Sr High School
LOCATION:Hanover Central Jr-Sr High School
URL;VALUE=URI:https://www.tricreek.k12.in.us/lhs/calendar/7360717/golf-boys
 -v-hanover-central-jr-sr-high-school
DTSTART:20250519T210000Z
DTEND:20250519T230000Z
END:VEVENT
END:VCALENDAR
