BEGIN:VCALENDAR
VERSION:2.0
PRODID:SchoolNow
CALSCALE:GREGORIAN
BEGIN:VEVENT
UID:8dc6e408-d9e9-11ef-be34-0a58a9feac02
DTSTAMP:20250124T002420Z
SUMMARY:Golf (Boys V) @ LaPorte Invitational
LOCATION:LaPorte High School
URL;VALUE=URI:https://www.tricreek.k12.in.us/lhs/calendar/7360718/golf-boys
 -v-laporte-invitational
DTSTART:20250516T140000Z
DTEND:20250516T160000Z
END:VEVENT
END:VCALENDAR
