BEGIN:VCALENDAR
VERSION:2.0
PRODID:SchoolNow
CALSCALE:GREGORIAN
BEGIN:VEVENT
UID:8dc6e4da-d9e9-11ef-9c2e-0a58a9feac02
DTSTAMP:20250124T002420Z
SUMMARY:Golf (Boys V) @ Griffith Senior High School
LOCATION:Griffith Senior High School
URL;VALUE=URI:https://www.tricreek.k12.in.us/lhs/calendar/7360719/golf-boys
 -v-griffith-senior-high-school
DTSTART:20250418T210016Z
DTEND:20250418T230016Z
END:VEVENT
END:VCALENDAR
