BEGIN:VCALENDAR
VERSION:2.0
PRODID:SchoolNow
CALSCALE:GREGORIAN
BEGIN:VEVENT
UID:8dc6e5b6-d9e9-11ef-b38e-0a58a9feac02
DTSTAMP:20250124T002420Z
SUMMARY:Golf (Boys V) @ Munster High School
LOCATION:Munster High School
URL;VALUE=URI:https://www.tricreek.k12.in.us/lhs/calendar/7360720/golf-boys
 -v-munster-high-school
DTSTART:20250428T210000Z
DTEND:20250428T230000Z
END:VEVENT
END:VCALENDAR
