BEGIN:VCALENDAR
VERSION:2.0
PRODID:SchoolNow
CALSCALE:GREGORIAN
BEGIN:VEVENT
UID:8dc6e692-d9e9-11ef-862e-0a58a9feac02
DTSTAMP:20250124T002420Z
SUMMARY:Golf (Boys V) - Andrean High School
LOCATION:Lowell Senior High School
URL;VALUE=URI:https://www.tricreek.k12.in.us/lhs/calendar/7360721/golf-boys
 -v-andrean-high-school
DTSTART:20250407T210032Z
DTEND:20250407T230032Z
END:VEVENT
END:VCALENDAR
