BEGIN:VCALENDAR
VERSION:2.0
PRODID:SchoolNow
CALSCALE:GREGORIAN
BEGIN:VEVENT
UID:8dc6ea7a-d9e9-11ef-9873-0a58a9feac02
DTSTAMP:20250124T002420Z
SUMMARY:Football (Boys V) - Munster High School
LOCATION:Lowell Senior High School
URL;VALUE=URI:https://www.tricreek.k12.in.us/lhs/calendar/7360723/football-
 boys-v-munster-high-school
DTSTART:20251011T000000Z
DTEND:20251011T020000Z
END:VEVENT
END:VCALENDAR
