BEGIN:VCALENDAR
VERSION:2.0
PRODID:SchoolNow
CALSCALE:GREGORIAN
BEGIN:VEVENT
UID:8dc6ebd8-d9e9-11ef-887a-0a58a9feac02
DTSTAMP:20250124T002420Z
SUMMARY:Football (Boys V) - Highland High School
LOCATION:Lowell Senior High School
URL;VALUE=URI:https://www.tricreek.k12.in.us/lhs/calendar/7360724/football-
 boys-v-highland-high-school
DTSTART:20250920T000000Z
DTEND:20250920T020000Z
END:VEVENT
END:VCALENDAR
