BEGIN:VCALENDAR
VERSION:2.0
PRODID:SchoolNow
CALSCALE:GREGORIAN
BEGIN:VEVENT
UID:8dc6edcc-d9e9-11ef-98d5-0a58a9feac02
DTSTAMP:20250124T002420Z
SUMMARY:Football (Boys V) - Hobart High School
LOCATION:Lowell Senior High School
URL;VALUE=URI:https://www.tricreek.k12.in.us/lhs/calendar/7360726/football-
 boys-v-hobart-high-school
DTSTART:20240928T000000Z
DTEND:20240928T020000Z
END:VEVENT
END:VCALENDAR
