BEGIN:VCALENDAR
VERSION:2.0
PRODID:SchoolNow
CALSCALE:GREGORIAN
BEGIN:VEVENT
UID:8dc6f15a-d9e9-11ef-a3aa-0a58a9feac02
DTSTAMP:20250124T002420Z
SUMMARY:Football (Boys V) @ Hobart High School
LOCATION:Hobart High School
URL;VALUE=URI:https://www.tricreek.k12.in.us/lhs/calendar/7360730/football-
 boys-v-hobart-high-school
DTSTART:20250927T000000Z
DTEND:20250927T020000Z
END:VEVENT
END:VCALENDAR
