BEGIN:VCALENDAR
VERSION:2.0
PRODID:SchoolNow
CALSCALE:GREGORIAN
BEGIN:VEVENT
UID:8dc6f236-d9e9-11ef-a575-0a58a9feac02
DTSTAMP:20250124T002420Z
SUMMARY:Football (Boys V) @ Kankakee Valley High School
LOCATION:Kankakee Valley High School
URL;VALUE=URI:https://www.tricreek.k12.in.us/lhs/calendar/7360731/football-
 boys-v-kankakee-valley-high-school
DTSTART:20251004T000000Z
DTEND:20251004T020000Z
END:VEVENT
END:VCALENDAR
