BEGIN:VCALENDAR
VERSION:2.0
PRODID:SchoolNow
CALSCALE:GREGORIAN
BEGIN:VEVENT
UID:8dc6f31c-d9e9-11ef-badb-0a58a9feac02
DTSTAMP:20250124T002420Z
SUMMARY:Football (Boys V) - Crown Point High School
LOCATION:Lowell Senior High School
URL;VALUE=URI:https://www.tricreek.k12.in.us/lhs/calendar/7360732/football-
 boys-v-crown-point-high-school
DTSTART:20250823T000000Z
DTEND:20250823T020000Z
END:VEVENT
END:VCALENDAR
