BEGIN:VCALENDAR
VERSION:2.0
PRODID:SchoolNow
CALSCALE:GREGORIAN
BEGIN:VEVENT
UID:8dc6f3f8-d9e9-11ef-b9ca-0a58a9feac02
DTSTAMP:20250124T002420Z
SUMMARY:Football (Boys V) @ Hanover Central Jr-Sr High School
LOCATION:Hanover Central Jr-Sr High School
URL;VALUE=URI:https://www.tricreek.k12.in.us/lhs/calendar/7360733/football-
 boys-v-hanover-central-jr-sr-high-school
DTSTART:20250913T000000Z
DTEND:20250913T020000Z
END:VEVENT
END:VCALENDAR
