BEGIN:VCALENDAR
VERSION:2.0
PRODID:SchoolNow
CALSCALE:GREGORIAN
BEGIN:VEVENT
UID:8dc6f86c-d9e9-11ef-926c-0a58a9feac02
DTSTAMP:20250124T002420Z
SUMMARY:Football (Boys V) @ IHSAA (FB Sectional Rnd 1)
LOCATION:TBD
URL;VALUE=URI:https://www.tricreek.k12.in.us/lhs/calendar/7360735/football-
 boys-v-ihsaa-fb-sectional-rnd-1
DTSTART:20251025T000000Z
DTEND:20251025T020000Z
END:VEVENT
END:VCALENDAR
