BEGIN:VCALENDAR
VERSION:2.0
PRODID:SchoolNow
CALSCALE:GREGORIAN
BEGIN:VEVENT
UID:8dc6f952-d9e9-11ef-926b-0a58a9feac02
DTSTAMP:20250124T002420Z
SUMMARY:Football (Boys V) @ Merrillville High School
LOCATION:Merrillville High School
URL;VALUE=URI:https://www.tricreek.k12.in.us/lhs/calendar/7360736/football-
 boys-v-merrillville-high-school
DTSTART:20250815T233000Z
DTEND:20250816T013000Z
END:VEVENT
END:VCALENDAR
