BEGIN:VCALENDAR
VERSION:2.0
PRODID:SchoolNow
CALSCALE:GREGORIAN
BEGIN:VEVENT
UID:8dc6fa2e-d9e9-11ef-8bf8-0a58a9feac02
DTSTAMP:20250124T002420Z
SUMMARY:Football (Boys V) - Andrean High School
LOCATION:Lowell Senior High School
URL;VALUE=URI:https://www.tricreek.k12.in.us/lhs/calendar/7360737/football-
 boys-v-andrean-high-school
DTSTART:20251018T000000Z
DTEND:20251018T020000Z
END:VEVENT
END:VCALENDAR
