BEGIN:VCALENDAR
VERSION:2.0
PRODID:SchoolNow
CALSCALE:GREGORIAN
BEGIN:VEVENT
UID:8dc6fb14-d9e9-11ef-972b-0a58a9feac02
DTSTAMP:20250124T002420Z
SUMMARY:Football (Boys V) - IHSAA (FB Sectional Rnd 1)
LOCATION:Lowell Senior High School
URL;VALUE=URI:https://www.tricreek.k12.in.us/lhs/calendar/7360738/football-
 boys-v-ihsaa-fb-sectional-rnd-1
DTSTART:20241026T000000Z
DTEND:20241026T020000Z
END:VEVENT
END:VCALENDAR
