BEGIN:VCALENDAR
VERSION:2.0
PRODID:SchoolNow
CALSCALE:GREGORIAN
BEGIN:VEVENT
UID:8dc6fbfa-d9e9-11ef-8529-0a58a9feac02
DTSTAMP:20250124T002420Z
SUMMARY:Gymnastics (Girls V/JV) @ Quad Meet (CHS/HOB/LOW/WHS)
LOCATION:Hobart High School
URL;VALUE=URI:https://www.tricreek.k12.in.us/lhs/calendar/7360739/gymnastic
 s-girls-v-jv-quad-meet-chs-hob-low-whs
DTSTART:20250115T000000Z
DTEND:20250115T020000Z
END:VEVENT
END:VCALENDAR
