BEGIN:VCALENDAR
VERSION:2.0
PRODID:SchoolNow
CALSCALE:GREGORIAN
BEGIN:VEVENT
UID:8dc6fcd6-d9e9-11ef-931d-0a58a9feac02
DTSTAMP:20250124T002420Z
SUMMARY:Gymnastics (Girls V/JV) @ Portage/Lowell/Hobart
LOCATION:Hobart High School
URL;VALUE=URI:https://www.tricreek.k12.in.us/lhs/calendar/7360740/gymnastic
 s-girls-v-jv-portage-lowell-hobart
DTSTART:20250211T000000Z
DTEND:20250211T040000Z
END:VEVENT
END:VCALENDAR
