BEGIN:VCALENDAR
VERSION:2.0
PRODID:SchoolNow
CALSCALE:GREGORIAN
BEGIN:VEVENT
UID:8dc6fdbc-d9e9-11ef-8927-0a58a9feac02
DTSTAMP:20250124T002420Z
SUMMARY:Gymnastics (Girls V/JV) @ Lake Central High School
LOCATION:Lake Central High School
URL;VALUE=URI:https://www.tricreek.k12.in.us/lhs/calendar/7360741/gymnastic
 s-girls-v-jv-lake-central-high-school
DTSTART:20250121T000000Z
DTEND:20250121T020000Z
END:VEVENT
END:VCALENDAR
