BEGIN:VCALENDAR
VERSION:2.0
PRODID:SchoolNow
CALSCALE:GREGORIAN
BEGIN:VEVENT
UID:8dc6fe98-d9e9-11ef-9904-0a58a9feac02
DTSTAMP:20250124T002420Z
SUMMARY:Gymnastics (Girls V/JV) @ Quad Meet (CHS/HOB/LOW/WHS)
LOCATION:Chesterton Senior High School
URL;VALUE=URI:https://www.tricreek.k12.in.us/lhs/calendar/7360742/gymnastic
 s-girls-v-jv-quad-meet-chs-hob-low-whs
DTSTART:20260114T000000Z
DTEND:20260114T020000Z
END:VEVENT
END:VCALENDAR
