BEGIN:VCALENDAR
VERSION:2.0
PRODID:SchoolNow
CALSCALE:GREGORIAN
BEGIN:VEVENT
UID:8dc6fff6-d9e9-11ef-8e73-0a58a9feac02
DTSTAMP:20250124T002420Z
SUMMARY:Gymnastics (Girls V/JV) @ Pirate Pride Invitat
LOCATION:Merrillville High School
URL;VALUE=URI:https://www.tricreek.k12.in.us/lhs/calendar/7360743/gymnastic
 s-girls-v-jv-pirate-pride-invitat
DTSTART:20250201T190000Z
DTEND:20250201T210000Z
END:VEVENT
END:VCALENDAR
