BEGIN:VCALENDAR
VERSION:2.0
PRODID:SchoolNow
CALSCALE:GREGORIAN
BEGIN:VEVENT
UID:8dc700c8-d9e9-11ef-a151-0a58a9feac02
DTSTAMP:20250124T002420Z
SUMMARY:Gymnastics (Girls V/JV) @ Quad Meet (Hobart/Lowell/Munster/CP)
LOCATION:Crown Point High School
URL;VALUE=URI:https://www.tricreek.k12.in.us/lhs/calendar/7360744/gymnastic
 s-girls-v-jv-quad-meet-hobart-lowell-munster-cp
DTSTART:20250219T000000Z
DTEND:20250219T040000Z
END:VEVENT
END:VCALENDAR
