BEGIN:VCALENDAR
VERSION:2.0
PRODID:SchoolNow
CALSCALE:GREGORIAN
BEGIN:VEVENT
UID:8dc7019a-d9e9-11ef-a94f-0a58a9feac02
DTSTAMP:20250124T002420Z
SUMMARY:Gymnastics (Girls V/JV) @ Quad Meet
LOCATION:Merrillville High School
URL;VALUE=URI:https://www.tricreek.k12.in.us/lhs/calendar/7360745/gymnastic
 s-girls-v-jv-quad-meet
DTSTART:20260115T000000Z
DTEND:20260115T020000Z
END:VEVENT
END:VCALENDAR
