BEGIN:VCALENDAR
VERSION:2.0
PRODID:SchoolNow
CALSCALE:GREGORIAN
BEGIN:VEVENT
UID:8dc70410-d9e9-11ef-84b3-0a58a9feac02
DTSTAMP:20250124T002420Z
SUMMARY:Track & Field (Girls V) @ HOB/MUN/LHS
LOCATION:Munster High School
URL;VALUE=URI:https://www.tricreek.k12.in.us/lhs/calendar/7360748/track-fie
 ld-girls-v-hob-mun-lhs
DTSTART:20250429T220000Z
DTEND:20250430T000000Z
END:VEVENT
END:VCALENDAR
