BEGIN:VCALENDAR
VERSION:2.0
PRODID:SchoolNow
CALSCALE:GREGORIAN
BEGIN:VEVENT
UID:8dc704e2-d9e9-11ef-8b56-0a58a9feac02
DTSTAMP:20250124T002420Z
SUMMARY:Track & Field (Girls V) @ IHSAA Regional
LOCATION:Portage High School
URL;VALUE=URI:https://www.tricreek.k12.in.us/lhs/calendar/7360749/track-fie
 ld-girls-v-ihsaa-regional
DTSTART:20250527T220000Z
DTEND:20250528T000000Z
END:VEVENT
END:VCALENDAR
