BEGIN:VCALENDAR
VERSION:2.0
PRODID:SchoolNow
CALSCALE:GREGORIAN
BEGIN:VEVENT
UID:8dc705b4-d9e9-11ef-99c7-0a58a9feac02
DTSTAMP:20250124T002420Z
SUMMARY:Track & Field (Girls V) - AND/HIGH/LOW
LOCATION:Lowell Senior High School
URL;VALUE=URI:https://www.tricreek.k12.in.us/lhs/calendar/7360750/track-fie
 ld-girls-v-and-high-low
DTSTART:20250422T213000Z
DTEND:20250422T233000Z
END:VEVENT
END:VCALENDAR
