BEGIN:VCALENDAR
VERSION:2.0
PRODID:SchoolNow
CALSCALE:GREGORIAN
BEGIN:VEVENT
UID:8dc70686-d9e9-11ef-8278-0a58a9feac02
DTSTAMP:20250124T002420Z
SUMMARY:Track & Field (Girls V) @ Hoosier State Relays (qualifiers only)
LOCATION:Hoosier State Relays (qualifiers only)
URL;VALUE=URI:https://www.tricreek.k12.in.us/lhs/calendar/7360751/track-fie
 ld-girls-v-hoosier-state-relays-qualifiers-only
DTSTART:20250329T120038Z
DTEND:20250329T140038Z
END:VEVENT
END:VCALENDAR
