BEGIN:VCALENDAR
VERSION:2.0
PRODID:SchoolNow
CALSCALE:GREGORIAN
BEGIN:VEVENT
UID:8dc7076c-d9e9-11ef-8533-0a58a9feac02
DTSTAMP:20250124T002420Z
SUMMARY:Track & Field (Girls V) @ Gary West/Hammond/Highland/Lowell
LOCATION:Chesterton High School
URL;VALUE=URI:https://www.tricreek.k12.in.us/lhs/calendar/7360752/track-fie
 ld-girls-v-gary-west-hammond-highland-lowell
DTSTART:20250409T213000Z
DTEND:20250409T233000Z
END:VEVENT
END:VCALENDAR
