BEGIN:VCALENDAR
VERSION:2.0
PRODID:SchoolNow
CALSCALE:GREGORIAN
BEGIN:VEVENT
UID:8dc70848-d9e9-11ef-a4c3-0a58a9feac02
DTSTAMP:20250124T002420Z
SUMMARY:Track & Field (Girls V) @ Woody Woodrick Invitational
LOCATION:Munster High School
URL;VALUE=URI:https://www.tricreek.k12.in.us/lhs/calendar/7360753/track-fie
 ld-girls-v-woody-woodrick-invitational
DTSTART:20250412T150059Z
DTEND:20250412T170059Z
END:VEVENT
END:VCALENDAR
